BEGIN:VCALENDAR
VERSION:2.0
PRODID:-//BlackburnCreekCDD - ECPv6.8.3//NONSGML v1.0//EN
CALSCALE:GREGORIAN
METHOD:PUBLISH
X-ORIGINAL-URL:http://blackburncreekcdd.com
X-WR-CALDESC:Events for BlackburnCreekCDD
REFRESH-INTERVAL;VALUE=DURATION:PT1H
X-Robots-Tag:noindex
X-PUBLISHED-TTL:PT1H
BEGIN:VTIMEZONE
TZID:UTC
BEGIN:STANDARD
TZOFFSETFROM:+0000
TZOFFSETTO:+0000
TZNAME:UTC
DTSTART:20200101T000000
END:STANDARD
TZID:America/New_York
BEGIN:DAYLIGHT
TZOFFSETFROM:-0500
TZOFFSETTO:-0400
TZNAME:EDT
DTSTART:20230312T070000
END:DAYLIGHT
BEGIN:STANDARD
TZOFFSETFROM:-0400
TZOFFSETTO:-0500
TZNAME:EST
DTSTART:20231105T060000
END:STANDARD
END:VTIMEZONE
BEGIN:VEVENT
DTSTART;TZID=UTC:20240312T110000
DTEND;TZID=UTC:20240312T110000
DTSTAMP:20260419T095401
CREATED:20230919T181639Z
LAST-MODIFIED:20230922T114830Z
UID:6636-1710241200-1710241200@blackburncreekcdd.com
SUMMARY:MARCH 12\, 2024 Board of Supervisors Meeting
DESCRIPTION:
URL:http://blackburncreekcdd.com/event/board-of-supervisors-meeting-9/
LOCATION:6853 Energy Ct\, Lakewood Ranch\, Florida 34240\, 6853 Energy Ct\, Lakewood Ranch\, Florida\, 34240
END:VEVENT
BEGIN:VEVENT
DTSTART;TZID=UTC:20240213T110000
DTEND;TZID=UTC:20240213T110000
DTSTAMP:20260419T095401
CREATED:20230919T181604Z
LAST-MODIFIED:20230922T114856Z
UID:6634-1707822000-1707822000@blackburncreekcdd.com
SUMMARY:FEBRUARY 13\, 2024 Board of Supervisors Meeting
DESCRIPTION:
URL:http://blackburncreekcdd.com/event/board-of-supervisors-meeting-8/
LOCATION:6853 Energy Ct\, Lakewood Ranch\, Florida 34240\, 6853 Energy Ct\, Lakewood Ranch\, Florida\, 34240
END:VEVENT
BEGIN:VEVENT
DTSTART;TZID=UTC:20240109T110000
DTEND;TZID=UTC:20240109T110000
DTSTAMP:20260419T095401
CREATED:20230919T181532Z
LAST-MODIFIED:20230922T114923Z
UID:6632-1704798000-1704798000@blackburncreekcdd.com
SUMMARY:JANUARY 9\, 2024 Board of Supervisors Meeting
DESCRIPTION:
URL:http://blackburncreekcdd.com/event/board-of-supervisors-meeting-7/
LOCATION:6853 Energy Ct\, Lakewood Ranch\, Florida 34240\, 6853 Energy Ct\, Lakewood Ranch\, Florida\, 34240
END:VEVENT
BEGIN:VEVENT
DTSTART;TZID=UTC:20231212T110000
DTEND;TZID=UTC:20231212T110000
DTSTAMP:20260419T095401
CREATED:20230919T181500Z
LAST-MODIFIED:20230922T114946Z
UID:6630-1702378800-1702378800@blackburncreekcdd.com
SUMMARY:DECEMBER 12 Board of Supervisors Meeting
DESCRIPTION:
URL:http://blackburncreekcdd.com/event/board-of-supervisors-meeting-6/
LOCATION:6853 Energy Ct\, Lakewood Ranch\, Florida 34240\, 6853 Energy Ct\, Lakewood Ranch\, Florida\, 34240
END:VEVENT
BEGIN:VEVENT
DTSTART;TZID=UTC:20231114T110000
DTEND;TZID=UTC:20231114T110000
DTSTAMP:20260419T095401
CREATED:20230919T181429Z
LAST-MODIFIED:20240102T202237Z
UID:6628-1699959600-1699959600@blackburncreekcdd.com
SUMMARY:NOVEMBER 14 Board of Supervisors Meeting
DESCRIPTION:
URL:http://blackburncreekcdd.com/event/board-of-supervisors-meeting-5/
LOCATION:6853 Energy Ct\, Lakewood Ranch\, Florida 34240\, 6853 Energy Ct\, Lakewood Ranch\, Florida\, 34240
END:VEVENT
BEGIN:VEVENT
DTSTART;TZID=UTC:20231010T110000
DTEND;TZID=UTC:20231010T110000
DTSTAMP:20260419T095401
CREATED:20230919T181329Z
LAST-MODIFIED:20230922T115029Z
UID:6626-1696935600-1696935600@blackburncreekcdd.com
SUMMARY:OCTOBER 10 Board of Supervisors Meeting
DESCRIPTION:
URL:http://blackburncreekcdd.com/event/board-of-supervisors-meeting-4/
LOCATION:6853 Energy Ct\, Lakewood Ranch\, Florida 34240\, 6853 Energy Ct\, Lakewood Ranch\, Florida\, 34240
END:VEVENT
BEGIN:VEVENT
DTSTART;TZID=America/New_York:20230919T110000
DTEND;TZID=America/New_York:20230919T110000
DTSTAMP:20260419T095401
CREATED:20230817T221656Z
LAST-MODIFIED:20230922T115053Z
UID:6595-1695121200-1695121200@blackburncreekcdd.com
SUMMARY:SEPTEMBER 19 Board of Supervisors Meeting
DESCRIPTION:
URL:http://blackburncreekcdd.com/event/board-of-supervisors-meeting-3/
LOCATION:6853 Energy Ct\, Lakewood Ranch\, Florida 34240\, 6853 Energy Ct\, Lakewood Ranch\, Florida\, 34240
END:VEVENT
BEGIN:VEVENT
DTSTART;TZID=America/New_York:20230808T110000
DTEND;TZID=America/New_York:20230808T110000
DTSTAMP:20260419T095401
CREATED:20230711T220728Z
LAST-MODIFIED:20230922T115115Z
UID:6557-1691492400-1691492400@blackburncreekcdd.com
SUMMARY:AUGUST 8 Board of Supervisors Meeting
DESCRIPTION:
URL:http://blackburncreekcdd.com/event/board-of-supervisors-meeting-2/
LOCATION:5800 Lakewood Ranch Blvd\, Sarasota\, FL\, 34240\, United States
END:VEVENT
BEGIN:VEVENT
DTSTART;TZID=America/New_York:20230711T110000
DTEND;TZID=America/New_York:20230711T110000
DTSTAMP:20260419T095401
CREATED:20230711T220638Z
LAST-MODIFIED:20230922T115140Z
UID:6555-1689073200-1689073200@blackburncreekcdd.com
SUMMARY:JULY 11 Board of Supervisors Meeting
DESCRIPTION:
URL:http://blackburncreekcdd.com/event/board-of-supervisors-meeting/
LOCATION:5800 Lakewood Ranch Blvd\, Sarasota\, FL\, 34240\, United States
END:VEVENT
BEGIN:VEVENT
DTSTART;TZID=America/New_York:20230613T110000
DTEND;TZID=America/New_York:20230613T110000
DTSTAMP:20260419T095401
CREATED:20230510T194758Z
LAST-MODIFIED:20230922T115202Z
UID:6450-1686654000-1686654000@blackburncreekcdd.com
SUMMARY:JUNE 13 Board of Supervisors Meeting
DESCRIPTION:
URL:http://blackburncreekcdd.com/event/blackburn-creek-cdd-board-of-supervisors-meeting/
LOCATION:5800 Lakewood Ranch Blvd\, Sarasota\, FL\, 34240\, United States
END:VEVENT
BEGIN:VEVENT
DTSTART;TZID=UTC:20210908T121500
DTEND;TZID=UTC:20210908T121500
DTSTAMP:20260419T095401
CREATED:20201210T042750Z
LAST-MODIFIED:20210319T130218Z
UID:5980-1631103300-1631103300@blackburncreekcdd.com
SUMMARY:SEPTEMBER 8 CDD Meeting
DESCRIPTION:
URL:http://blackburncreekcdd.com/event/cdd-meeting-23/
LOCATION:Florida
END:VEVENT
BEGIN:VEVENT
DTSTART;TZID=UTC:20210811T121500
DTEND;TZID=UTC:20210811T121500
DTSTAMP:20260419T095401
CREATED:20201210T042707Z
LAST-MODIFIED:20210319T130146Z
UID:5978-1628684100-1628684100@blackburncreekcdd.com
SUMMARY:AUGUST 11 CDD Meeting
DESCRIPTION:
URL:http://blackburncreekcdd.com/event/cdd-meeting-22/
LOCATION:Florida
END:VEVENT
BEGIN:VEVENT
DTSTART;TZID=UTC:20210714T121500
DTEND;TZID=UTC:20210714T121500
DTSTAMP:20260419T095401
CREATED:20201210T042837Z
LAST-MODIFIED:20230922T115224Z
UID:5982-1626264900-1626264900@blackburncreekcdd.com
SUMMARY:JULY 14\, 2021 CDD Meeting
DESCRIPTION:
URL:http://blackburncreekcdd.com/event/cdd-meeting-24/
LOCATION:Florida
END:VEVENT
BEGIN:VEVENT
DTSTART;TZID=UTC:20210609T121500
DTEND;TZID=UTC:20210609T121500
DTSTAMP:20260419T095401
CREATED:20201210T042430Z
LAST-MODIFIED:20210319T130111Z
UID:5974-1623240900-1623240900@blackburncreekcdd.com
SUMMARY:JUNE 9 CDD Meeting
DESCRIPTION:
URL:http://blackburncreekcdd.com/event/cdd-meeting-21/
LOCATION:Florida
END:VEVENT
BEGIN:VEVENT
DTSTART;TZID=UTC:20210512T121500
DTEND;TZID=UTC:20210512T121500
DTSTAMP:20260419T095401
CREATED:20201210T042358Z
LAST-MODIFIED:20210319T130040Z
UID:5972-1620821700-1620821700@blackburncreekcdd.com
SUMMARY:MAY 12 CDD Meeting
DESCRIPTION:
URL:http://blackburncreekcdd.com/event/cdd-meeting-20/
LOCATION:Florida
END:VEVENT
BEGIN:VEVENT
DTSTART;TZID=UTC:20210414T121500
DTEND;TZID=UTC:20210414T121500
DTSTAMP:20260419T095401
CREATED:20201210T042322Z
LAST-MODIFIED:20210319T130011Z
UID:5970-1618402500-1618402500@blackburncreekcdd.com
SUMMARY:APRIL 14 CDD Meeting
DESCRIPTION:
URL:http://blackburncreekcdd.com/event/cdd-meeting-19/
LOCATION:Florida
END:VEVENT
BEGIN:VEVENT
DTSTART;TZID=UTC:20210310T121500
DTEND;TZID=UTC:20210310T121500
DTSTAMP:20260419T095401
CREATED:20201210T041955Z
LAST-MODIFIED:20230922T115255Z
UID:5968-1615378500-1615378500@blackburncreekcdd.com
SUMMARY:MARCH 10\, 2021 CDD Meeting
DESCRIPTION:3-10-21
URL:http://blackburncreekcdd.com/event/cdd-meeting-18/
LOCATION:Florida
END:VEVENT
BEGIN:VEVENT
DTSTART;TZID=UTC:20210210T120000
DTEND;TZID=UTC:20210210T120000
DTSTAMP:20260419T095401
CREATED:20201210T041904Z
LAST-MODIFIED:20230922T121939Z
UID:5966-1612958400-1612958400@blackburncreekcdd.com
SUMMARY:FEBRUARY 10\, 2021 CDD Meeting
DESCRIPTION:2-10-21
URL:http://blackburncreekcdd.com/event/cdd-meeting-17/
LOCATION:5800 Lakewood Ranch Blvd\, Sarasota\, FL\, 34240\, United States
END:VEVENT
BEGIN:VEVENT
DTSTART;TZID=UTC:20210113T120000
DTEND;TZID=UTC:20210113T120000
DTSTAMP:20260419T095401
CREATED:20201209T221223Z
LAST-MODIFIED:20230922T122001Z
UID:5964-1610539200-1610539200@blackburncreekcdd.com
SUMMARY:JANUARY 13\, 2021 CDD Meeting
DESCRIPTION:1-13-21 Updated
URL:http://blackburncreekcdd.com/event/cdd-meeting-16/
LOCATION:5800 Lakewood Ranch Blvd\, Sarasota\, FL\, 34240\, United States
END:VEVENT
BEGIN:VEVENT
DTSTART;TZID=UTC:20201209T121500
DTEND;TZID=UTC:20201209T121500
DTSTAMP:20260419T095401
CREATED:20201209T211550Z
LAST-MODIFIED:20230922T122025Z
UID:5962-1607516100-1607516100@blackburncreekcdd.com
SUMMARY:DECEMBER 9\, 2020 CDD Meeting
DESCRIPTION:
URL:http://blackburncreekcdd.com/event/cdd-meeting-15/
LOCATION:5800 Lakewood Ranch Blvd\, Sarasota\, FL\, 34240\, United States
END:VEVENT
BEGIN:VEVENT
DTSTART;TZID=UTC:20201111T120000
DTEND;TZID=UTC:20201111T120000
DTSTAMP:20260419T095401
CREATED:20201105T030330Z
LAST-MODIFIED:20230922T122045Z
UID:5861-1605096000-1605096000@blackburncreekcdd.com
SUMMARY:NOVEMBER 11\, 2020 CDD Meeting
DESCRIPTION:11-11-20 Revised
URL:http://blackburncreekcdd.com/event/cdd-meeting-14/
LOCATION:5800 Lakewood Ranch Blvd\, Sarasota\, FL\, 34240\, United States
END:VEVENT
BEGIN:VEVENT
DTSTART;TZID=UTC:20200909T121500
DTEND;TZID=UTC:20200909T121500
DTSTAMP:20260419T095401
CREATED:20191212T230159Z
LAST-MODIFIED:20230922T122105Z
UID:5657-1599653700-1599653700@blackburncreekcdd.com
SUMMARY:SEPTEMBER 9\, 2020 CDD Meeting
DESCRIPTION:
URL:http://blackburncreekcdd.com/event/cdd-meeting-13/
LOCATION:Florida
END:VEVENT
BEGIN:VEVENT
DTSTART;TZID=UTC:20200812T121500
DTEND;TZID=UTC:20200812T121500
DTSTAMP:20260419T095401
CREATED:20191212T230158Z
LAST-MODIFIED:20230922T122125Z
UID:5656-1597234500-1597234500@blackburncreekcdd.com
SUMMARY:AUGUST 12\, 2020 CDD Meeting
DESCRIPTION:8.12.20
URL:http://blackburncreekcdd.com/event/cdd-meeting-12/
LOCATION:Florida
END:VEVENT
BEGIN:VEVENT
DTSTART;TZID=UTC:20200708T121500
DTEND;TZID=UTC:20200708T121500
DTSTAMP:20260419T095401
CREATED:20191212T230157Z
LAST-MODIFIED:20230922T122147Z
UID:5655-1594210500-1594210500@blackburncreekcdd.com
SUMMARY:JULY 8\, 2020 CDD Meeting
DESCRIPTION:7-8-20 Agenda PDF | RTF\n7-8-20 Revised Agenda PDF | RTF
URL:http://blackburncreekcdd.com/event/cdd-meeting-11/
LOCATION:Florida
END:VEVENT
BEGIN:VEVENT
DTSTART;TZID=UTC:20200610T121500
DTEND;TZID=UTC:20200610T121500
DTSTAMP:20260419T095401
CREATED:20191212T230154Z
LAST-MODIFIED:20230922T122209Z
UID:5654-1591791300-1591791300@blackburncreekcdd.com
SUMMARY:JUNE 10\, 2020 CDD Meeting
DESCRIPTION:
URL:http://blackburncreekcdd.com/event/cdd-meeting-10/
LOCATION:Florida
END:VEVENT
BEGIN:VEVENT
DTSTART;TZID=UTC:20200513T121500
DTEND;TZID=UTC:20200513T121500
DTSTAMP:20260419T095401
CREATED:20191212T230153Z
LAST-MODIFIED:20230922T122235Z
UID:5653-1589372100-1589372100@blackburncreekcdd.com
SUMMARY:MAY 13\, 2020 CDD Meeting
DESCRIPTION:
URL:http://blackburncreekcdd.com/event/cdd-meeting-9/
LOCATION:Florida
END:VEVENT
BEGIN:VEVENT
DTSTART;TZID=UTC:20200408T121500
DTEND;TZID=UTC:20200408T121500
DTSTAMP:20260419T095401
CREATED:20191212T230152Z
LAST-MODIFIED:20230922T122257Z
UID:5652-1586348100-1586348100@blackburncreekcdd.com
SUMMARY:APRIL 8\, 2020 CDD Meeting
DESCRIPTION:4-8-20 Agenda PDF | RTF
URL:http://blackburncreekcdd.com/event/cdd-meeting-8/
LOCATION:Florida
END:VEVENT
BEGIN:VEVENT
DTSTART;TZID=UTC:20200311T121500
DTEND;TZID=UTC:20200311T121500
DTSTAMP:20260419T095401
CREATED:20191212T230151Z
LAST-MODIFIED:20230922T122323Z
UID:5651-1583928900-1583928900@blackburncreekcdd.com
SUMMARY:MARCH 11\, 2020 CDD Meeting
DESCRIPTION:
URL:http://blackburncreekcdd.com/event/cdd-meeting-7/
LOCATION:Florida
END:VEVENT
BEGIN:VEVENT
DTSTART;TZID=UTC:20200212T121500
DTEND;TZID=UTC:20200212T121500
DTSTAMP:20260419T095401
CREATED:20191212T230149Z
LAST-MODIFIED:20230922T122342Z
UID:5650-1581509700-1581509700@blackburncreekcdd.com
SUMMARY:FEBRUARY 12\, 2020 CDD Meeting
DESCRIPTION:
URL:http://blackburncreekcdd.com/event/cdd-meeting-6/
LOCATION:Florida
END:VEVENT
BEGIN:VEVENT
DTSTART;TZID=UTC:20200108T121500
DTEND;TZID=UTC:20200108T121500
DTSTAMP:20260419T095401
CREATED:20191212T230147Z
LAST-MODIFIED:20230922T122403Z
UID:5649-1578485700-1578485700@blackburncreekcdd.com
SUMMARY:JANUARY 8\, 2020 CDD Meeting
DESCRIPTION:
URL:http://blackburncreekcdd.com/event/cdd-meeting-5/
LOCATION:Florida
END:VEVENT
END:VCALENDAR