BEGIN:VCALENDAR
VERSION:2.0
PRODID:-//BlackburnCreekCDD - ECPv6.8.3//NONSGML v1.0//EN
CALSCALE:GREGORIAN
METHOD:PUBLISH
X-WR-CALNAME:BlackburnCreekCDD
X-ORIGINAL-URL:http://blackburncreekcdd.com
X-WR-CALDESC:Events for BlackburnCreekCDD
REFRESH-INTERVAL;VALUE=DURATION:PT1H
X-Robots-Tag:noindex
X-PUBLISHED-TTL:PT1H
BEGIN:VTIMEZONE
TZID:UTC
BEGIN:STANDARD
TZOFFSETFROM:+0000
TZOFFSETTO:+0000
TZNAME:UTC
DTSTART:20190101T000000
END:STANDARD
END:VTIMEZONE
BEGIN:VEVENT
DTSTART;TZID=UTC:20191211T121500
DTEND;TZID=UTC:20191211T121500
DTSTAMP:20260419T141916
CREATED:20191212T230145Z
LAST-MODIFIED:20230922T122424Z
UID:5648-1576066500-1576066500@blackburncreekcdd.com
SUMMARY:DECEMBER 11\, 2019 CDD Meeting
DESCRIPTION:
URL:http://blackburncreekcdd.com/event/cdd-meeting-4/
END:VEVENT
BEGIN:VEVENT
DTSTART;TZID=UTC:20191113T121500
DTEND;TZID=UTC:20191113T121500
DTSTAMP:20260419T141916
CREATED:20191212T230143Z
LAST-MODIFIED:20230922T122444Z
UID:5647-1573647300-1573647300@blackburncreekcdd.com
SUMMARY:NOVEMBER 13\, 2019 CDD Meeting
DESCRIPTION:
URL:http://blackburncreekcdd.com/event/cdd-meeting-3/
END:VEVENT
BEGIN:VEVENT
DTSTART;TZID=UTC:20191009T121500
DTEND;TZID=UTC:20191009T121500
DTSTAMP:20260419T141916
CREATED:20191212T230141Z
LAST-MODIFIED:20230922T122506Z
UID:5646-1570623300-1570623300@blackburncreekcdd.com
SUMMARY:OCTOBER 9\, 2019 CDD Meeting
DESCRIPTION:
URL:http://blackburncreekcdd.com/event/cdd-meeting-2/
END:VEVENT
BEGIN:VEVENT
DTSTART;TZID=UTC:20190911T121500
DTEND;TZID=UTC:20190911T121500
DTSTAMP:20260419T141916
CREATED:20191212T230139Z
LAST-MODIFIED:20230922T122530Z
UID:5645-1568204100-1568204100@blackburncreekcdd.com
SUMMARY:SEPTEMBER 11\, 2019 CDD Meeting
DESCRIPTION:
URL:http://blackburncreekcdd.com/event/cdd-meeting/
END:VEVENT
END:VCALENDAR